BEGIN:VCALENDAR
VERSION:2.0
PRODID:Quicksite
NAME:Calendrier
X-WR-CALNAME:Calendrier
REFRESH-INTERVAL;VALUE=DURATION:PT240M
X-PUBLISHED-TTL:PT240M
BEGIN:VEVENT
UID:69e7382f83538
SUMMARY:Festival du Film Vert - Des Abruzzes dans les Alpes
DESCRIPTION:6 ans / 10 ans
LOCATION:Salle communale à 17 h 
DTSTART:20260315
DTSTAMP:20260302T153443Z
END:VEVENT
END:VCALENDAR